BEGIN:VCALENDAR
VERSION:2.0
PRODID:-//Ocean Institute - ECPv5.15.0//NONSGML v1.0//EN
CALSCALE:GREGORIAN
METHOD:PUBLISH
X-WR-CALNAME:Ocean Institute
X-ORIGINAL-URL:https://maritime-fest.org
X-WR-CALDESC:Events for Ocean Institute
REFRESH-INTERVAL;VALUE=DURATION:PT1H
X-Robots-Tag:noindex
X-PUBLISHED-TTL:PT1H
BEGIN:VTIMEZONE
TZID:UTC
BEGIN:STANDARD
TZOFFSETFROM:+0000
TZOFFSETTO:+0000
TZNAME:UTC
DTSTART:20260101T000000
END:STANDARD
END:VTIMEZONE
BEGIN:VEVENT
DTSTART;TZID=UTC:20260912T091500
DTEND;TZID=UTC:20260912T100000
DTSTAMP:20260424T112344
CREATED:20260320T184551Z
LAST-MODIFIED:20260320T211234Z
UID:41583-1789204500-1789207200@maritime-fest.org
SUMMARY:School for Scallywags
DESCRIPTION:Ahoy\, young adventurers! Join our local favorite Cap’n Will as he trains you on what it means to be a pirate. Learn the ropes\, master maritime skills\, and find out if you have what it takes to become a true pirate or if you’ll end up walking the plank! Plus\, every ticket includes a Festival Adventure Pass for even more fun and excitement throughout the day! \nEvent Highlights: \n\nInteractive Pirate Training with Cap’n Will\nHands-on Activities and Pirate Lessons\nFestival Adventure Pass Included with Every Ticket\n\nLocation: Spirit of Dana Point \nAll children must be accompanied by an adult. Adults must also purchase tickets. This event sells out! \nPricing:\nAdult/Senior/Child: $35\nInfant/Lap Child (0-18 months) – $10\n\n			\n				\n				\n				\n				\n				Please check in at the ticketing tent located at Ocean Institute’s Main parking lot. \n			\n			\n				\n				\n				\n				\n				\n				\n				\n				\n				\n				\n			\n				\n				\n				\n				\n				\n			\n				\n				\n				\n				\n				\n			\n			\n				\n				\n				\n				\n			\n				\n				\n				\n				\n				\n				\n				\n				\n				\n				\n				F.A.Q.\n			\n				\n				\n				\n				\n				\n				\n				\n				\n				\n				What time should I be there? \n				Please arrive at least an hour before your scheduled start time in order to find parking and check in. \n			\n				\n				\n				\n				\n				What should I bring? \n				Please make sure to have your ticket on your phone or printed out. As this event takes place on the deck of a ship\, you will need to wear close-toed\, close-heeled shoes. Pirate costumes are encouraged!  \n			\n				\n				\n				\n				\n				Where do I park? \n				There is no on-site parking at the festival. Please park at Dana Hills High School and take the shuttle to Ocean Institute. Check out our Parking and Shuttles page for more information. \n			\n				\n				\n				\n				\n				Where do I check in?  \n				You will check-in at the main ticketing tent in Ocean Institute’s parking lot. You will receive a wristband labeled with the time of your event. You can then proceed to the tall ship Spirit of Dana Point where the event will be held.   \n			\n				\n				\n				\n				\n				What is included?  \n				\nYour ticket includes admission to School for Scallywags\, as well as the Festival Adventure Pass. \n\n\nThe pass gives access to Ocean Institute’s exhibits and tours of all the visiting ships\, for both days of the festival! The Institute and ships will open at 9:00 am. Ship tours will end at 2:00 pm to start battle preparations\, so make sure to see those first!  \n\n\nChildren cannot attend School for Scallywags by themselves; adults must also purchase tickets. \n\n			\n				\n				\n				\n				\n				What age is this for?  \n				School for Scallywags is recommended for young pirates ages 5 to 8 years old. Younger ones might find it a little tricky\, and older kids might be ready for bigger adventures. You know your little scallywag best; if you think they will enjoy the experience\, we are happy to welcome them to our crew!  \n			\n			\n			\n				\n				\n				\n				\n			\n				\n				\n			\n				\n				\n				\n				\n				\n				\n				\n				\n				\n				\n				\n				\n				\n				\n				\n				\n				\n				\n			\n			\n				\n				\n				\n				\n			\n				\n				\n				\n				\n				\n				\n				\n				\n				\n				\n				Maritime Festival Tickets – Refund and Transfer Policy – Click Here
URL:https://maritime-fest.org/event/school-for-scallywags-6/2026-09-12/
LOCATION:Ocean Institute\, 24200 Dana Point Harbor Dr\, Dana Point\, CA\, 92629\, United States
CATEGORIES:Pirates
END:VEVENT
BEGIN:VEVENT
DTSTART;TZID=UTC:20260912T111500
DTEND;TZID=UTC:20260912T120000
DTSTAMP:20260424T112344
CREATED:20260320T211054Z
LAST-MODIFIED:20260320T211328Z
UID:42092-1789211700-1789214400@maritime-fest.org
SUMMARY:School for Scallywags
DESCRIPTION:Ahoy\, young adventurers! Join our local favorite Cap’n Will as he trains you on what it means to be a pirate. Learn the ropes\, master maritime skills\, and find out if you have what it takes to become a true pirate or if you’ll end up walking the plank! Plus\, every ticket includes a Festival Adventure Pass for even more fun and excitement throughout the day! \nEvent Highlights: \n\nInteractive Pirate Training with Cap’n Will\nHands-on Activities and Pirate Lessons\nFestival Adventure Pass Included with Every Ticket\n\nLocation: Spirit of Dana Point \nAll children must be accompanied by an adult. Adults must also purchase tickets. This event sells out! \nPricing:\nAdult/Senior/Child: $35\nInfant/Lap Child (0-18 months) – $10\n\n			\n				\n				\n				\n				\n				Please check in at the ticketing tent located at Ocean Institute’s Main parking lot. \n			\n			\n				\n				\n				\n				\n				\n				\n				\n				\n				\n				\n			\n				\n				\n				\n				\n				\n			\n				\n				\n				\n				\n				\n			\n			\n				\n				\n				\n				\n			\n				\n				\n				\n				\n				\n				\n				\n				\n				\n				\n				F.A.Q.\n			\n				\n				\n				\n				\n				\n				\n				\n				\n				\n				What time should I be there? \n				Please arrive at least an hour before your scheduled start time in order to find parking and check in. \n			\n				\n				\n				\n				\n				What should I bring? \n				Please make sure to have your ticket on your phone or printed out. As this event takes place on the deck of a ship\, you will need to wear close-toed\, close-heeled shoes. Pirate costumes are encouraged!  \n			\n				\n				\n				\n				\n				Where do I park? \n				There is no on-site parking at the festival. Please park at Dana Hills High School and take the shuttle to Ocean Institute. Check out our Parking and Shuttles page for more information. \n			\n				\n				\n				\n				\n				Where do I check in?  \n				You will check-in at the main ticketing tent in Ocean Institute’s parking lot. You will receive a wristband labeled with the time of your event. You can then proceed to the tall ship Spirit of Dana Point where the event will be held.   \n			\n				\n				\n				\n				\n				What is included?  \n				\nYour ticket includes admission to School for Scallywags\, as well as the Festival Adventure Pass. \n\n\nThe pass gives access to Ocean Institute’s exhibits and tours of all the visiting ships\, for both days of the festival! The Institute and ships will open at 9:00 am. Ship tours will end at 2:00 pm to start battle preparations\, so make sure to see those first!  \n\n\nChildren cannot attend School for Scallywags by themselves; adults must also purchase tickets. \n\n			\n				\n				\n				\n				\n				What age is this for?  \n				School for Scallywags is recommended for young pirates ages 5 to 8 years old. Younger ones might find it a little tricky\, and older kids might be ready for bigger adventures. You know your little scallywag best; if you think they will enjoy the experience\, we are happy to welcome them to our crew!  \n			\n			\n			\n				\n				\n				\n				\n			\n				\n				\n			\n				\n				\n				\n				\n				\n				\n				\n				\n				\n				\n				\n				\n				\n				\n				\n				\n				\n				\n			\n			\n				\n				\n				\n				\n			\n				\n				\n				\n				\n				\n				\n				\n				\n				\n				\n				Maritime Festival Tickets – Refund and Transfer Policy – Click Here
URL:https://maritime-fest.org/event/school-for-scallywags-8/2026-09-12/
LOCATION:Ocean Institute\, 24200 Dana Point Harbor Dr\, Dana Point\, CA\, 92629\, United States
CATEGORIES:Pirates
END:VEVENT
BEGIN:VEVENT
DTSTART;TZID=UTC:20260913T091500
DTEND;TZID=UTC:20260913T100000
DTSTAMP:20260424T112344
CREATED:20260320T184551Z
LAST-MODIFIED:20260320T184551Z
UID:42096-1789290900-1789293600@maritime-fest.org
SUMMARY:School for Scallywags
DESCRIPTION:Ahoy\, young adventurers! Join our local favorite Cap’n Will as he trains you on what it means to be a pirate. Learn the ropes\, master maritime skills\, and find out if you have what it takes to become a true pirate or if you’ll end up walking the plank! Plus\, every ticket includes a Festival Adventure Pass for even more fun and excitement throughout the day! \nEvent Highlights: \n\nInteractive Pirate Training with Cap’n Will\nHands-on Activities and Pirate Lessons\nFestival Adventure Pass Included with Every Ticket\n\nLocation: Spirit of Dana Point \nAll children must be accompanied by an adult. Adults must also purchase tickets. This event sells out! \nPricing:\nAdult/Senior/Child: $35\nInfant/Lap Child (0-18 months) – $10\n\n			\n				\n				\n				\n				\n				Please check in at the ticketing tent located at Ocean Institute’s Main parking lot. \n			\n			\n				\n				\n				\n				\n				\n				\n				\n				\n				\n				\n			\n				\n				\n				\n				\n				\n			\n				\n				\n				\n				\n				\n			\n			\n				\n				\n				\n				\n			\n				\n				\n				\n				\n				\n				\n				\n				\n				\n				\n				F.A.Q.\n			\n				\n				\n				\n				\n				\n				\n				\n				\n				\n				What time should I be there? \n				Please arrive at least an hour before your scheduled start time in order to find parking and check in. \n			\n				\n				\n				\n				\n				What should I bring? \n				Please make sure to have your ticket on your phone or printed out. As this event takes place on the deck of a ship\, you will need to wear close-toed\, close-heeled shoes. Pirate costumes are encouraged!  \n			\n				\n				\n				\n				\n				Where do I park? \n				There is no on-site parking at the festival. Please park at Dana Hills High School and take the shuttle to Ocean Institute. Check out our Parking and Shuttles page for more information. \n			\n				\n				\n				\n				\n				Where do I check in?  \n				You will check-in at the main ticketing tent in Ocean Institute’s parking lot. You will receive a wristband labeled with the time of your event. You can then proceed to the tall ship Spirit of Dana Point where the event will be held.   \n			\n				\n				\n				\n				\n				What is included?  \n				\nYour ticket includes admission to School for Scallywags\, as well as the Festival Adventure Pass. \n\n\nThe pass gives access to Ocean Institute’s exhibits and tours of all the visiting ships\, for both days of the festival! The Institute and ships will open at 9:00 am. Ship tours will end at 2:00 pm to start battle preparations\, so make sure to see those first!  \n\n\nChildren cannot attend School for Scallywags by themselves; adults must also purchase tickets. \n\n			\n				\n				\n				\n				\n				What age is this for?  \n				School for Scallywags is recommended for young pirates ages 5 to 8 years old. Younger ones might find it a little tricky\, and older kids might be ready for bigger adventures. You know your little scallywag best; if you think they will enjoy the experience\, we are happy to welcome them to our crew!  \n			\n			\n			\n				\n				\n				\n				\n			\n				\n				\n			\n				\n				\n				\n				\n				\n				\n				\n				\n				\n				\n				\n				\n				\n				\n				\n				\n				\n				\n			\n			\n				\n				\n				\n				\n			\n				\n				\n				\n				\n				\n				\n				\n				\n				\n				\n				Maritime Festival Tickets – Refund and Transfer Policy – Click Here
URL:https://maritime-fest.org/event/school-for-scallywags-6/2026-09-13/
LOCATION:Ocean Institute\, 24200 Dana Point Harbor Dr\, Dana Point\, CA\, 92629\, United States
CATEGORIES:Pirates
END:VEVENT
BEGIN:VEVENT
DTSTART;TZID=UTC:20260913T111500
DTEND;TZID=UTC:20260913T120000
DTSTAMP:20260424T112344
CREATED:20260320T211054Z
LAST-MODIFIED:20260320T211328Z
UID:42094-1789298100-1789300800@maritime-fest.org
SUMMARY:School for Scallywags
DESCRIPTION:Ahoy\, young adventurers! Join our local favorite Cap’n Will as he trains you on what it means to be a pirate. Learn the ropes\, master maritime skills\, and find out if you have what it takes to become a true pirate or if you’ll end up walking the plank! Plus\, every ticket includes a Festival Adventure Pass for even more fun and excitement throughout the day! \nEvent Highlights: \n\nInteractive Pirate Training with Cap’n Will\nHands-on Activities and Pirate Lessons\nFestival Adventure Pass Included with Every Ticket\n\nLocation: Spirit of Dana Point \nAll children must be accompanied by an adult. Adults must also purchase tickets. This event sells out! \nPricing:\nAdult/Senior/Child: $35\nInfant/Lap Child (0-18 months) – $10\n\n			\n				\n				\n				\n				\n				Please check in at the ticketing tent located at Ocean Institute’s Main parking lot. \n			\n			\n				\n				\n				\n				\n				\n				\n				\n				\n				\n				\n			\n				\n				\n				\n				\n				\n			\n				\n				\n				\n				\n				\n			\n			\n				\n				\n				\n				\n			\n				\n				\n				\n				\n				\n				\n				\n				\n				\n				\n				F.A.Q.\n			\n				\n				\n				\n				\n				\n				\n				\n				\n				\n				What time should I be there? \n				Please arrive at least an hour before your scheduled start time in order to find parking and check in. \n			\n				\n				\n				\n				\n				What should I bring? \n				Please make sure to have your ticket on your phone or printed out. As this event takes place on the deck of a ship\, you will need to wear close-toed\, close-heeled shoes. Pirate costumes are encouraged!  \n			\n				\n				\n				\n				\n				Where do I park? \n				There is no on-site parking at the festival. Please park at Dana Hills High School and take the shuttle to Ocean Institute. Check out our Parking and Shuttles page for more information. \n			\n				\n				\n				\n				\n				Where do I check in?  \n				You will check-in at the main ticketing tent in Ocean Institute’s parking lot. You will receive a wristband labeled with the time of your event. You can then proceed to the tall ship Spirit of Dana Point where the event will be held.   \n			\n				\n				\n				\n				\n				What is included?  \n				\nYour ticket includes admission to School for Scallywags\, as well as the Festival Adventure Pass. \n\n\nThe pass gives access to Ocean Institute’s exhibits and tours of all the visiting ships\, for both days of the festival! The Institute and ships will open at 9:00 am. Ship tours will end at 2:00 pm to start battle preparations\, so make sure to see those first!  \n\n\nChildren cannot attend School for Scallywags by themselves; adults must also purchase tickets. \n\n			\n				\n				\n				\n				\n				What age is this for?  \n				School for Scallywags is recommended for young pirates ages 5 to 8 years old. Younger ones might find it a little tricky\, and older kids might be ready for bigger adventures. You know your little scallywag best; if you think they will enjoy the experience\, we are happy to welcome them to our crew!  \n			\n			\n			\n				\n				\n				\n				\n			\n				\n				\n			\n				\n				\n				\n				\n				\n				\n				\n				\n				\n				\n				\n				\n				\n				\n				\n				\n				\n				\n			\n			\n				\n				\n				\n				\n			\n				\n				\n				\n				\n				\n				\n				\n				\n				\n				\n				Maritime Festival Tickets – Refund and Transfer Policy – Click Here
URL:https://maritime-fest.org/event/school-for-scallywags-8/2026-09-13/
LOCATION:Ocean Institute\, 24200 Dana Point Harbor Dr\, Dana Point\, CA\, 92629\, United States
CATEGORIES:Pirates
END:VEVENT
END:VCALENDAR